BEGIN:VCALENDAR
VERSION:2.0
PRODID:-//wp-events-plugin.com//6.6.3//EN
TZID:Europe/Rome
X-WR-TIMEZONE:Europe/Rome
BEGIN:VEVENT
UID:0-62@povo.diocesitn.it
DTSTART;TZID=Europe/Rome:20201013T000000
DTEND;TZID=Europe/Rome:20201020T000000
DTSTAMP:20201013T074918Z
URL:https://povo.diocesitn.it/events/eletto-il-nuovo-consiglio-delloratori
 o/
SUMMARY:Eletto il nuovo Consiglio dell'Oratorio
DESCRIPTION:Martedì 22 settembre u.s. si è svolta l’assemblea ordinaria
  ed elettiva del Circolo Oratorio.\n\nIn tale occasione è stato eletto il
  nuovo consiglio direttivo\, che sarà in carica per i prossimi quattro es
 ercizi e scadrà alla data dell'assemblea convocata per l'approvazione del
  bilancio relativo al quarto esercizio della sua carica.\n\nIl nuovo diret
 tivo è così composto:\n\nLaura Sommadossi - Presidente\n\nSaulo Moser - 
 Vice Presidente\n\nArrigo Lunelli - Tesoriere\n\nManuela Tomasi - Segretar
 io\n\nFrancesco Orempuller - consigliere\n\nDonatella Andreatta - consigli
 ere\n\nRoberta Weiss - consigliere\n\nArianna Demozzi - consigliere\n\nLuc
 a Benedetti - consigliere\n\nPartecipa alle riunioni del Consiglio Diretti
 vo il Parroco o altra persona da lui designata in qualità di Consigliere 
 Spirituale.\n\nIn questo tempo particolare\, di grande attenzione e cautel
 a che possiamo leggere anche come segni della cura per e della comunità\,
  vi invitiamo a condividere con noi idee\, proposte\, suggerimenti \, rifl
 essioni di cui possiamo far tesoro per costruire il futuro.\n\nIl direttiv
 o
END:VEVENT
BEGIN:VTIMEZONE
TZID:Europe/Rome
X-LIC-LOCATION:Europe/Rome
BEGIN:DAYLIGHT
DTSTART:20200329T030000
TZOFFSETFROM:+0100
TZOFFSETTO:+0200
TZNAME:CEST
END:DAYLIGHT
END:VTIMEZONE
END:VCALENDAR