BEGIN:VCALENDAR
VERSION:2.0
PRODID:-//wp-events-plugin.com//6.6.3//EN
TZID:Europe/Rome
X-WR-TIMEZONE:Europe/Rome
BEGIN:VEVENT
UID:0-152@povo.diocesitn.it
DTSTART;TZID=Europe/Rome;VALUE=DATE:20210528
DTEND;TZID=Europe/Rome;VALUE=DATE:20210531
DTSTAMP:20210528T122453Z
URL:https://povo.diocesitn.it/events/domenica-30-maggio-alle-ore-900-sara-
 celebrata-leucaristia-anche-ad-oltrecastello/
SUMMARY:Domenica 30 Maggio\, alle ore 9:00 sarà celebrata l'Eucaristia anc
 he ad Oltrecastello
DESCRIPTION:
END:VEVENT
BEGIN:VTIMEZONE
TZID:Europe/Rome
X-LIC-LOCATION:Europe/Rome
BEGIN:DAYLIGHT
DTSTART:20210328T030000
TZOFFSETFROM:+0100
TZOFFSETTO:+0200
TZNAME:CEST
END:DAYLIGHT
END:VTIMEZONE
END:VCALENDAR