BEGIN:VCALENDAR
VERSION:2.0
PRODID:-//wp-events-plugin.com//6.6.3//EN
TZID:Europe/Rome
X-WR-TIMEZONE:Europe/Rome
BEGIN:VEVENT
UID:0-63@povo.diocesitn.it
DTSTART;TZID=Europe/Rome:20201018T000000
DTEND;TZID=Europe/Rome:20201025T000000
DTSTAMP:20201022T131534Z
URL:https://povo.diocesitn.it/events/domenica-25-ottobre-alle-ore-900-s-me
 ssa-anche-ad-oltrecastello/
SUMMARY:Domenica 25 ottobre\, alle ore 9:00\, S. Messa anche e Oltrecastell
 o!
DESCRIPTION:DOMENICA 25 OTTOBRE\, ALLE ORE 9:00\, S.MESSA ANCHE AD OLTRECAS
 TELLO
END:VEVENT
BEGIN:VTIMEZONE
TZID:Europe/Rome
X-LIC-LOCATION:Europe/Rome
BEGIN:DAYLIGHT
DTSTART:20200329T030000
TZOFFSETFROM:+0100
TZOFFSETTO:+0200
TZNAME:CEST
END:DAYLIGHT
END:VTIMEZONE
END:VCALENDAR