BEGIN:VCALENDAR
VERSION:2.0
PRODID:-//wp-events-plugin.com//6.6.3//EN
TZID:Europe/Rome
X-WR-TIMEZONE:Europe/Rome
BEGIN:VEVENT
UID:0-90@povo.diocesitn.it
DTSTART;TZID=Europe/Rome:20210120T000000
DTEND;TZID=Europe/Rome:20210124T000000
DTSTAMP:20210120T105948Z
URL:https://povo.diocesitn.it/events/domenica-24-ore-900-sara-celebrata-la
 -s-messa-anche-ad-oltrecastello/
SUMMARY:Domenica 24 ore 9:00 - sarà celebrata la S. Messa anche ad Oltreca
 stello
DESCRIPTION:
END:VEVENT
BEGIN:VTIMEZONE
TZID:Europe/Rome
X-LIC-LOCATION:Europe/Rome
BEGIN:STANDARD
DTSTART:20201025T020000
TZOFFSETFROM:+0200
TZOFFSETTO:+0100
TZNAME:CET
END:STANDARD
END:VTIMEZONE
END:VCALENDAR