BEGIN:VCALENDAR
VERSION:2.0
PRODID:-//wp-events-plugin.com//6.6.3//EN
TZID:Europe/Rome
X-WR-TIMEZONE:Europe/Rome
BEGIN:VEVENT
UID:0-139@povo.diocesitn.it
DTSTART;TZID=Europe/Rome:20210502T000000
DTEND;TZID=Europe/Rome:20210502T000000
DTSTAMP:20210501T132702Z
URL:https://povo.diocesitn.it/events/domenica-2-maggio-alle-ore-9-00-si-ce
 lebra-la-messa-ad-oltrecastello/
SUMMARY:Domenica 2 maggio  alle ore 9.00 si celebra la Messa ad Oltrecastel
 lo
DESCRIPTION:
END:VEVENT
BEGIN:VTIMEZONE
TZID:Europe/Rome
X-LIC-LOCATION:Europe/Rome
BEGIN:DAYLIGHT
DTSTART:20210328T030000
TZOFFSETFROM:+0100
TZOFFSETTO:+0200
TZNAME:CEST
END:DAYLIGHT
END:VTIMEZONE
END:VCALENDAR