BEGIN:VCALENDAR
VERSION:2.0
PRODID:-//wp-events-plugin.com//6.6.3//EN
TZID:Europe/Rome
X-WR-TIMEZONE:Europe/Rome
BEGIN:VEVENT
UID:0-123@povo.diocesitn.it
DTSTART;TZID=Europe/Rome:20210411T000000
DTEND;TZID=Europe/Rome:20210411T000000
DTSTAMP:20210409T114246Z
URL:https://povo.diocesitn.it/events/domenica-11-aprile-s-messa-a-oltrecas
 tello/
SUMMARY:Domenica 11 Aprile - S. MESSA a OLTRECASTELLO alle ore 09:00
DESCRIPTION:
END:VEVENT
BEGIN:VTIMEZONE
TZID:Europe/Rome
X-LIC-LOCATION:Europe/Rome
BEGIN:DAYLIGHT
DTSTART:20210328T030000
TZOFFSETFROM:+0100
TZOFFSETTO:+0200
TZNAME:CEST
END:DAYLIGHT
END:VTIMEZONE
END:VCALENDAR