BEGIN:VCALENDAR
VERSION:2.0
PRODID:-//wp-events-plugin.com//6.6.3//EN
TZID:Europe/Rome
X-WR-TIMEZONE:Europe/Rome
BEGIN:VEVENT
UID:0-69@povo.diocesitn.it
DTSTART;TZID=Europe/Rome;VALUE=DATE:20201101
DTEND;TZID=Europe/Rome;VALUE=DATE:20201102
DTSTAMP:20201101T102125Z
URL:https://povo.diocesitn.it/events/domenica-1-novembre-festa-di-tutti-i-
 santi-ore-1430-celebrazione-eucaristica-in-commemorazione-dei-defunti/
SUMMARY:Oggi\, Domenica 1 Novembre\, Festa di Tutti i Santi - ore 14:30 Cel
 ebrazione Eucaristica in commemorazione dei defunti
DESCRIPTION:
END:VEVENT
BEGIN:VTIMEZONE
TZID:Europe/Rome
X-LIC-LOCATION:Europe/Rome
BEGIN:STANDARD
DTSTART:20201025T020000
TZOFFSETFROM:+0200
TZOFFSETTO:+0100
TZNAME:CET
END:STANDARD
END:VTIMEZONE
END:VCALENDAR