BEGIN:VCALENDAR
VERSION:2.0
PRODID:-//wp-events-plugin.com//6.6.3//EN
TZID:Europe/Rome
X-WR-TIMEZONE:Europe/Rome
BEGIN:VEVENT
UID:0-145@povo.diocesitn.it
DTSTART;TZID=Europe/Rome;VALUE=DATE:20210521
DTEND;TZID=Europe/Rome;VALUE=DATE:20210522
DTSTAMP:20210516T071059Z
URL:https://povo.diocesitn.it/events/confessioni-v-elementare-venerdi-21-m
 aggio-ore-1630-chiesa-di-povo/
SUMMARY:Confessioni V Elementare - Venerdì 21 Maggio\, ore 16:30 Chiesa di
  Povo
DESCRIPTION:
END:VEVENT
BEGIN:VTIMEZONE
TZID:Europe/Rome
X-LIC-LOCATION:Europe/Rome
BEGIN:DAYLIGHT
DTSTART:20210328T030000
TZOFFSETFROM:+0100
TZOFFSETTO:+0200
TZNAME:CEST
END:DAYLIGHT
END:VTIMEZONE
END:VCALENDAR