BEGIN:VCALENDAR
VERSION:2.0
PRODID:-//wp-events-plugin.com//6.6.3//EN
TZID:Europe/Rome
X-WR-TIMEZONE:Europe/Rome
BEGIN:VEVENT
UID:0-180@povo.diocesitn.it
DTSTART;TZID=Europe/Rome:20220423T000000
DTEND;TZID=Europe/Rome:20220501T000000
DTSTAMP:20220422T210236Z
URL:https://povo.diocesitn.it/events/ci-siamo-estate-2022-iscrizioni/
SUMMARY:#CI SIAMO – estate 2022 – iscrizioni
DESCRIPTION:https://povo.diocesitn.it/ci-siamo-estate-2022-iscrizioni/
END:VEVENT
BEGIN:VTIMEZONE
TZID:Europe/Rome
X-LIC-LOCATION:Europe/Rome
BEGIN:DAYLIGHT
DTSTART:20220327T030000
TZOFFSETFROM:+0100
TZOFFSETTO:+0200
TZNAME:CEST
END:DAYLIGHT
END:VTIMEZONE
END:VCALENDAR