BEGIN:VCALENDAR
VERSION:2.0
PRODID:-//wp-events-plugin.com//6.6.3//EN
TZID:Europe/Rome
X-WR-TIMEZONE:Europe/Rome
BEGIN:VEVENT
UID:0-118@povo.diocesitn.it
DTSTART;TZID=Europe/Rome:20210319T000000
DTEND;TZID=Europe/Rome:20210404T000000
DTSTAMP:20210319T183516Z
URL:https://povo.diocesitn.it/events/celebrazioni-della-settimana-santa/
SUMMARY:CELEBRAZIONI DELLA SETTIMANA SANTA
DESCRIPTION:SETTIMANA SANTA 2021\nScarica documento : settimana santa 2021\
 n  26 marzo        Venerdì\n\nore 15.00       Via Crucis in
  parrocchiale a Povo\n\nore 20.00       Via Crucis cittadina\, in Duo
 mo.\n\nAnche in diretta su Telepace Trento e diocesitn.it\n\n27 marzo   
      Sabato\n\nore 18.30       Benedizione degli olivi e S. Mess
 a\n\nAl termine della Messa possibilità di partecipare alla celebrazione 
 penitenziale con assoluzione generale\n28 marzo       Domenica delle
  Palme e della passione del Signore\nore   8.00       Benedizione 
 degli olivi e S. Messa\n\nAl termine della Messa possibilità di partecipa
 re alla celebrazione penitenziale con assoluzione generale\n\nore 10.00  
      Benedizione degli olivi e S. Messa\n\nAl termine della Messa poss
 ibilità di partecipare alla celebrazione penitenziale con assoluzione gen
 erale\n\n29 marzo        Lunedì santo\n\n30 marzo       Marte
 dì santo\n\n31 marzo       Mercoledì santo\n\nore 8.00      
    S. Messa e adorazione eucaristica personale e silenziosa (30’)\n\n&
 nbsp\;\nTriduo pasquale di passione\, morte e risurrezione\n 01 aprile: 
            Giovedì santo\n\nore 20.00     S. Messa nella ce
 na del Signore\n\n 	Commemorazione dell’istituzione dell’ Eucaristia\n
  	Commemorazione dell’istituzione del sacerdozio ministeriale\n 	Commemo
 razione del comandamento dell’ amore\n\nRaccolta della “quaresima di f
 raternità”\, frutto della nostra solidarietà quaresimale\n\n 02 april
 e:            Venerdì santo\n\nore 15.00       Via Cruci
 s - in chiesa\n\nore 20.00       Celebrazione della passione e morte
  del Signore\n\n 	Proclamazione della passione e morte di Gesù secondo l
 ’evangelista Giovanni\n 	Proclamazione della preghiera universale\n 	Com
 unione eucaristica\n\n Colletta a favore delle opere in Terra Santa\n\n03
  aprile:                        Sabato santo\n\nvisi
 ta alla chiesa\n\nore    9.00-11.00\n\nore  15.00-18.00  -confessioni
  individuali per coloro che non hanno partecipato alle celebrazioni penite
 nziali\n\nore 20.00       Solenne celebrazione della veglia pasquale\
 n\n 	Liturgia del Fuoco ed Exultet pasquale\n 	Liturgia della Parola\n 	Li
 turgia Battesimale\n 	Liturgia Eucaristica\n\n 04 aprile:        
     Domenica\n Pasqua di Risurrezione\nore   8.00       S. Mes
 sa a Povo\n\nore 10.00       S. Messa a Povo\n\n 05  aprile:   
                     Lunedì dell’Angelo\n\nore   9.
 00       S. Messa a Villazzano\n\nore 10.00       S. Messa a P
 ovo.\nSacramento della confessione\norario disponibilità del padre dehoni
 ano\n\nSabato\n\n3 aprile a Povo       ore   9.00-11.00\n\nore 15.
 00-18.00 confessioni  individuali per coloro che non hanno partecipato al
 le celebrazioni penitenziali
END:VEVENT
BEGIN:VTIMEZONE
TZID:Europe/Rome
X-LIC-LOCATION:Europe/Rome
BEGIN:STANDARD
DTSTART:20201025T020000
TZOFFSETFROM:+0200
TZOFFSETTO:+0100
TZNAME:CET
END:STANDARD
BEGIN:DAYLIGHT
DTSTART:20210328T030000
TZOFFSETFROM:+0100
TZOFFSETTO:+0200
TZNAME:CEST
END:DAYLIGHT
END:VTIMEZONE
END:VCALENDAR