BEGIN:VCALENDAR
VERSION:2.0
PRODID:-//wp-events-plugin.com//6.6.3//EN
TZID:Europe/Rome
X-WR-TIMEZONE:Europe/Rome
BEGIN:VEVENT
UID:0-154@povo.diocesitn.it
DTSTART;TZID=Europe/Rome;VALUE=DATE:20210605
DTEND;TZID=Europe/Rome;VALUE=DATE:20210607
DTSTAMP:20210529T075452Z
URL:https://povo.diocesitn.it/events/celebrazioni-della-confermazione-e-de
 lla-prima-comunione/
SUMMARY:Celebrazioni Confermazione e  Prima Comunione
DESCRIPTION:Sabato 05 giugno\, ore 14.30\, celebraz. Confermazione II media
  (I gruppo)\n\nSabato 05 giugno\, ore 16.15 celebraz. Confermazione II med
 ia (II gruppo)\n\n&nbsp\;\n\nDomenica 06 giugno\,  ore 14.30\, celebraz. 
 Prima Comunione I media (I gruppo)\n\nDomenica 06 giugno\,ore 16.15 celebr
 az. Prima Comunione I media (II gruppo)
END:VEVENT
BEGIN:VTIMEZONE
TZID:Europe/Rome
X-LIC-LOCATION:Europe/Rome
BEGIN:DAYLIGHT
DTSTART:20210328T030000
TZOFFSETFROM:+0100
TZOFFSETTO:+0200
TZNAME:CEST
END:DAYLIGHT
END:VTIMEZONE
END:VCALENDAR