BEGIN:VCALENDAR
VERSION:2.0
PRODID:-//wp-events-plugin.com//6.6.3//EN
TZID:Europe/Rome
X-WR-TIMEZONE:Europe/Rome
BEGIN:VEVENT
UID:0-136@povo.diocesitn.it
DTSTART;TZID=Europe/Rome:20210507T000000
DTEND;TZID=Europe/Rome:20210508T000000
DTSTAMP:20210501T074614Z
URL:https://povo.diocesitn.it/events/catechesi-per-i-bambini-iii-e-iv-elem
 -e-i-media/
SUMMARY:Catechesi per i bambini III e IV elem. e I media
DESCRIPTION:Venerdì          7 maggio        ore 17.00  
      chiesa di Povo – catechesi III elem.\n\nSabato        
     8 maggio        ore   9.30       chiesa di Povo – 
 catechesi IV elem.\n\nore 17.00       chiesa di Povo – catechesi I
  media.
END:VEVENT
BEGIN:VTIMEZONE
TZID:Europe/Rome
X-LIC-LOCATION:Europe/Rome
BEGIN:DAYLIGHT
DTSTART:20210328T030000
TZOFFSETFROM:+0100
TZOFFSETTO:+0200
TZNAME:CEST
END:DAYLIGHT
END:VTIMEZONE
END:VCALENDAR