BEGIN:VCALENDAR
VERSION:2.0
PRODID:-//wp-events-plugin.com//6.6.3//EN
TZID:Europe/Rome
X-WR-TIMEZONE:Europe/Rome
BEGIN:VEVENT
UID:0-109@povo.diocesitn.it
DTSTART;TZID=Europe/Rome:20210306T000000
DTEND;TZID=Europe/Rome:20210313T000000
DTSTAMP:20210306T135015Z
URL:https://povo.diocesitn.it/events/catechesi-dei-bambini-del-6-e-13-marz
 o/
SUMMARY:Catechesi dei bambini del 6 e 13 Marzo
DESCRIPTION:Sabato 06 marzo ore 9.30 chiesa Povo – catechesi IV elem.\nSa
 bato 06 marzo ore 10.00 chiesa Oltrecastello – catechesi II media (grupp
 o blu)\n\nSabato 13 marzo ore 9.30 oratorio e sala parrocchiale Povo – c
 atechesi gruppo V elem.
END:VEVENT
BEGIN:VTIMEZONE
TZID:Europe/Rome
X-LIC-LOCATION:Europe/Rome
BEGIN:STANDARD
DTSTART:20201025T020000
TZOFFSETFROM:+0200
TZOFFSETTO:+0100
TZNAME:CET
END:STANDARD
END:VTIMEZONE
END:VCALENDAR