BEGIN:VCALENDAR
VERSION:2.0
PRODID:-//wp-events-plugin.com//6.6.3//EN
TZID:Europe/Rome
X-WR-TIMEZONE:Europe/Rome
BEGIN:VEVENT
UID:0-126@povo.diocesitn.it
DTSTART;TZID=Europe/Rome;VALUE=DATE:20210616
DTEND;TZID=Europe/Rome;VALUE=DATE:20210617
DTSTAMP:20210530T165755Z
URL:https://povo.diocesitn.it/events/calendario-aprile-maggio-della-catech
 esi-per-ragazze-e-ragazzi-2/
SUMMARY:Calendari della catechesi per ragazze e ragazzi di Giugno
DESCRIPTION:ccalendario catechesi Giugno 2020 2021_V1.18 \n
END:VEVENT
BEGIN:VTIMEZONE
TZID:Europe/Rome
X-LIC-LOCATION:Europe/Rome
BEGIN:DAYLIGHT
DTSTART:20210328T030000
TZOFFSETFROM:+0100
TZOFFSETTO:+0200
TZNAME:CEST
END:DAYLIGHT
END:VTIMEZONE
END:VCALENDAR