BEGIN:VCALENDAR
VERSION:2.0
PRODID:-//wp-events-plugin.com//6.6.3//EN
TZID:Europe/Rome
X-WR-TIMEZONE:Europe/Rome
BEGIN:VEVENT
UID:0-57@povo.diocesitn.it
DTSTART;TZID=Europe/Rome:20200928T000000
DTEND;TZID=Europe/Rome:20201004T000000
DTSTAMP:20200930T102546Z
URL:https://povo.diocesitn.it/events/avvisi-per-la-festa-del-rosario/
SUMMARY:AVVISI PER LA FESTA DEL ROSARIO
DESCRIPTION:AVVISI PER LA FESTA DEL S. ROSARIO\n Giovedì 1 ottobre   
     ore 20.30 in parrocchiale\, le comunità di Povo e Villazzano sono 
 invitate alla preghiera diocesana “Con gli occhi di Dio” per chiedere 
 il dono di nuove vocazioni.\n\n Venerdì 2 ottobre       ore 20.00 
 Presentazione di mons. Lodovico Maule dell’affresco absidale di Marco Fa
 sal “Il trionfo del Rosario-Lepanto e S.Pio V”.\n\n Sabato 3 ottobre 
 ore 15.00-17.00\n\nin parrocchiale  possibilità della celebrazione indiv
 iduale del Sacramento della Riconciliazione.\n\n Domenica 4 ottobre   A
 l termine della Messa delle 10\,00\, tempo permettendo\, seguirà la proce
 ssione con la statua della Madonna.\n\nore 15.00 in chiesa preghiera del R
 osario e recita dei Vespri.\n\nDa giovedì 8/10 (ogni giovedì di ottobre)
  ore 15\,00 in chiesa – preghiera del Rosario aperta a tutti.
END:VEVENT
BEGIN:VTIMEZONE
TZID:Europe/Rome
X-LIC-LOCATION:Europe/Rome
BEGIN:DAYLIGHT
DTSTART:20200329T030000
TZOFFSETFROM:+0100
TZOFFSETTO:+0200
TZNAME:CEST
END:DAYLIGHT
END:VTIMEZONE
END:VCALENDAR