BEGIN:VCALENDAR
VERSION:2.0
PRODID:-//wp-events-plugin.com//6.6.3//EN
TZID:Europe/Rome
X-WR-TIMEZONE:Europe/Rome
BEGIN:VEVENT
UID:0-130@povo.diocesitn.it
DTSTART;TZID=Europe/Rome:20210424T000000
DTEND;TZID=Europe/Rome:20210424T000000
DTSTAMP:20210424T082455Z
URL:https://povo.diocesitn.it/events/attivita-in-parrocchia-catechesi/
SUMMARY:ATTIVITA’ IN PARROCCHIA : Catechesi
DESCRIPTION:ATTIVITA’ IN PARROCCHIA : Catechesi\n\n\nSabato 24 aprile ore
  9.30 chiesa Povo – catechesi IV elem.\n\nore 10.00 chiesa Oltrecastello
 - catechesi II media (gruppo\n\nblu).
END:VEVENT
BEGIN:VTIMEZONE
TZID:Europe/Rome
X-LIC-LOCATION:Europe/Rome
BEGIN:DAYLIGHT
DTSTART:20210328T030000
TZOFFSETFROM:+0100
TZOFFSETTO:+0200
TZNAME:CEST
END:DAYLIGHT
END:VTIMEZONE
END:VCALENDAR