BEGIN:VCALENDAR
VERSION:2.0
PRODID:-//wp-events-plugin.com//6.6.3//EN
TZID:Europe/Rome
X-WR-TIMEZONE:Europe/Rome
BEGIN:VEVENT
UID:0-142@povo.diocesitn.it
DTSTART;TZID=Europe/Rome;VALUE=DATE:20210508
DTEND;TZID=Europe/Rome;VALUE=DATE:20210515
DTSTAMP:20210508T120045Z
URL:https://povo.diocesitn.it/events/attivita-di-catechesi-in-parrocchia/
SUMMARY:Attività di Catechesi in parrocchia
DESCRIPTION:ATTIVITA’ IN PARROCCHIA\nSabato      8 maggio    ore 
   9.30    chiesa di Povo – catechesi IV elem.\n\nore   9.30    o
 ratorio e sala parrocchiale – catechesi V elem.\n\nore 17.00    chies
 a di Povo – catechesi I media.\n\nLunedì    10 maggio    ore 20.3
 0    chiesa di Povo – incontro genitori I media.\n\nVenerdì    14
  maggio    ore 17.00    chiesa di Povo – catechesi II elem.
END:VEVENT
BEGIN:VTIMEZONE
TZID:Europe/Rome
X-LIC-LOCATION:Europe/Rome
BEGIN:DAYLIGHT
DTSTART:20210328T030000
TZOFFSETFROM:+0100
TZOFFSETTO:+0200
TZNAME:CEST
END:DAYLIGHT
END:VTIMEZONE
END:VCALENDAR