BEGIN:VCALENDAR
VERSION:2.0
PRODID:-//wp-events-plugin.com//6.6.3//EN
TZID:Europe/Rome
X-WR-TIMEZONE:Europe/Rome
BEGIN:VEVENT
UID:0-53@povo.diocesitn.it
DTSTART;TZID=Europe/Rome;VALUE=DATE:20200909
DTEND;TZID=Europe/Rome;VALUE=DATE:20200921
DTSTAMP:20200919T082613Z
URL:https://povo.diocesitn.it/events/attenti-a-giudicare-i-giovani-non-son
 o-tutti-fuori-di-testa/
SUMMARY:Pillole di saggezza
DESCRIPTION:\nVivere la Parola\n\n\n\n♦ Sii sulla terra la piccola fiamme
 lla che illumina le tenebre in cui si trovano migliaia di creature.\nSii l
 ’acqua benefica che disseta tutti coloro che attraversano il deserto del
 l’esistenza\, bisognosi di affetto e di amore.\nSii l’alimento di colo
 ro che cercano\, affamati di comprensione e di stimolo.\nCerca di servire 
 e amare\, per avere la gioia di essere passato sulla terra distribuendo be
 nefici a tutte le creature.\n\n♦ Domina la tua agitazione!\nSolo le crea
 ture calme possono essere totalmente efficienti.\nL’agitazione stanca e 
 rende tutto malfatto. La fretta è nemica della perfezione.\nLa calma è i
 l segreto di coloro che fanno tutto bene.\nQuanto maggiore è il lavoro\, 
 tanto maggiore deve essere la nostra calma.\nDomina la tua agitazione\, ri
 mani sereno e tutto ti riuscirà bene.\n\n\nAttenti a giudicare i giovani\
 , non sono tutti “fuori di testa”\nda Famiglia Cristiana\, 6 settembre
  2020 - Antonio Mazzi\nForse dobbiamo smettere di buttare sui giovani tutt
 o il meglio e il peggio che gira nelle nostre città […]\n\nDobbiamo ess
 ere meno superficiali nel pretendere dai giovani l’impegno più serio e 
 nel contempo giudicarli come tutti fuori di testa […]\n\nNon varrebbe la
  pena di giudicare di meno\, di aiutarci di più a collocare i giovani al 
 posto giusto […]?
END:VEVENT
BEGIN:VTIMEZONE
TZID:Europe/Rome
X-LIC-LOCATION:Europe/Rome
BEGIN:DAYLIGHT
DTSTART:20200329T030000
TZOFFSETFROM:+0100
TZOFFSETTO:+0200
TZNAME:CEST
END:DAYLIGHT
END:VTIMEZONE
END:VCALENDAR