BEGIN:VCALENDAR
VERSION:2.0
PRODID:-//wp-events-plugin.com//6.6.3//EN
TZID:Europe/Rome
X-WR-TIMEZONE:Europe/Rome
BEGIN:VEVENT
UID:0-146@povo.diocesitn.it
DTSTART;TZID=Europe/Rome;VALUE=DATE:20210609
DTEND;TZID=Europe/Rome;VALUE=DATE:20210610
DTSTAMP:20210520T071251Z
URL:https://povo.diocesitn.it/events/assemblea-ordinaria-del-circolo-orato
 rio-concordia-aps-9-giugno-2021/
SUMMARY:Assemblea ordinaria del Circolo Oratorio Concordia Aps - 9 Giugno 2
 021
DESCRIPTION:
END:VEVENT
BEGIN:VTIMEZONE
TZID:Europe/Rome
X-LIC-LOCATION:Europe/Rome
BEGIN:DAYLIGHT
DTSTART:20210328T030000
TZOFFSETFROM:+0100
TZOFFSETTO:+0200
TZNAME:CEST
END:DAYLIGHT
END:VTIMEZONE
END:VCALENDAR