BEGIN:VCALENDAR
VERSION:2.0
PRODID:-//wp-events-plugin.com//6.6.3//EN
TZID:Europe/Rome
X-WR-TIMEZONE:Europe/Rome
BEGIN:VEVENT
UID:0-29@povo.diocesitn.it
DTSTART;TZID=Europe/Rome:20191013T100000
DTEND;TZID=Europe/Rome:20191013T110000
DTSTAMP:20191003T080131Z
URL:https://povo.diocesitn.it/events/arrivo-nuovo-parroco-povo/
SUMMARY:Arrivo nuovo parroco Povo
DESCRIPTION:S. Messa ore 10.00 13 ottobre 2019
LOCATION:Chiesa santi Pietro e Andrea\, Via d. Tommaso Dallafior 1\, Trento
 \, Italia
GEO:46.0649177;11.153122899999971
X-APPLE-STRUCTURED-LOCATION;VALUE=URI;X-ADDRESS=Via d. Tommaso Dallafior 1\
 , Trento\, Italia;X-APPLE-RADIUS=100;X-TITLE=Chiesa santi Pietro e Andrea:
 geo:46.0649177,11.153122899999971
END:VEVENT
BEGIN:VTIMEZONE
TZID:Europe/Rome
X-LIC-LOCATION:Europe/Rome
BEGIN:DAYLIGHT
DTSTART:20190331T030000
TZOFFSETFROM:+0100
TZOFFSETTO:+0200
TZNAME:CEST
END:DAYLIGHT
END:VTIMEZONE
END:VCALENDAR