BEGIN:VCALENDAR
VERSION:2.0
PRODID:-//wp-events-plugin.com//6.6.3//EN
TZID:Europe/Rome
X-WR-TIMEZONE:Europe/Rome
BEGIN:VEVENT
UID:0-87@povo.diocesitn.it
DTSTART;TZID=Europe/Rome:20210123T000000
DTEND;TZID=Europe/Rome:20210130T000000
DTSTAMP:20210123T095000Z
URL:https://povo.diocesitn.it/events/appuntamenti-di-catechesi-della-setti
 mana-18-24-gennaio/
SUMMARY:APPUNTAMENTI DI CATECHESI DELLA SETTIMANA 23 - 30 Gennaio
DESCRIPTION:INCONTRI IN PARROCCHIA\n\nSabato            23 genna
 io\n\n 	ore    09:30        chiesa di Povo – catechesi IV elem.
 \n\nVenerdì          29 gennaio\n\n 	ore 16:15         o
 ratorio Povo – catechesi II media (gruppi lilla e giallo)\n\nSabato  
           30 gennaio\n\n 	ore 10.00 chiesa Oltrecastello – cate
 chesi II media (gruppo blu)\n
END:VEVENT
BEGIN:VTIMEZONE
TZID:Europe/Rome
X-LIC-LOCATION:Europe/Rome
BEGIN:STANDARD
DTSTART:20201025T020000
TZOFFSETFROM:+0200
TZOFFSETTO:+0100
TZNAME:CET
END:STANDARD
END:VTIMEZONE
END:VCALENDAR