BEGIN:VCALENDAR
VERSION:2.0
PRODID:-//wp-events-plugin.com//6.6.3//EN
TZID:Europe/Rome
X-WR-TIMEZONE:Europe/Rome
BEGIN:VEVENT
UID:0-124@povo.diocesitn.it
DTSTART;TZID=Europe/Rome:20210410T000000
DTEND;TZID=Europe/Rome:20210417T000000
DTSTAMP:20210409T114831Z
URL:https://povo.diocesitn.it/events/appuntamenti-della-settimana-di-catec
 hesi-per-bambini/
SUMMARY:Appuntamenti della settimana di catechesi per bambini
DESCRIPTION:APPUNTAMENTI DI CATECHESI PER BAMBINI IN PARROCCHIA\nSabato 10 
 aprile ore 9.30 chiesa di Povo – catechesi IV elem.\nore 9.30 oratorio e
  sala parr.le – catechesi V elem.\nVenerdì 16 aprile ore 17.00 chiesa d
 i Povo – catechesi III elem.\nSabato 17 aprile ore 9.30 oratorio e sala 
 parr.le – catechesi V elem.
END:VEVENT
BEGIN:VTIMEZONE
TZID:Europe/Rome
X-LIC-LOCATION:Europe/Rome
BEGIN:DAYLIGHT
DTSTART:20210328T030000
TZOFFSETFROM:+0100
TZOFFSETTO:+0200
TZNAME:CEST
END:DAYLIGHT
END:VTIMEZONE
END:VCALENDAR