BEGIN:VCALENDAR
VERSION:2.0
PRODID:-//wp-events-plugin.com//6.6.3//EN
TZID:Europe/Rome
X-WR-TIMEZONE:Europe/Rome
BEGIN:VEVENT
UID:0-58@povo.diocesitn.it
DTSTART;TZID=Europe/Rome:20201004T000000
DTEND;TZID=Europe/Rome:20201010T000000
DTSTAMP:20201004T100119Z
URL:https://povo.diocesitn.it/events/apertuta-iscrizione-alla-catechesi-20
 20-2021-per-fanciulli-e-ragazzi/
SUMMARY:Apertuta Iscrizione alla Catechesi 2020-2021 per fanciulli e ragazz
 i
DESCRIPTION:Apertura Iscrizione catechesi 2020 – 2021\n- Termine delle is
 crizioni: 10 OTTOBRE -\n\nCarissimi Genitori\, riprendiamo il cammino di c
 atechesi per i fanciulli e i ragazzi dopo la brusca interruzione dovuta al
  lockdown. Questo fermo ci ha portati a meditare su come porci di fronte a
 lla sfida di “ascoltare la realtà” mettendo al centro l’annuncio de
 l Vangelo. Questo è il punto di partenza di ogni catechesi.\n\nLa comunit
 à\, con il parroco e le catechiste\, si stanno impegnando perché sia una
  ripartenza serena e in sicurezza mettendo al centro le cose veramente imp
 ortanti: le relazioni. Ci auguriamo\, più di ogni altro anno\, una partec
 ipazione attiva da parte delle famiglie a questa scelta di iscrivere i pro
 pri figli al percorso di iniziazione cristiana. Verranno seguite le dispos
 izioni della Diocesi per lo svolgimento degli incontri con i minorenni. Il
  calendario degli incontri verrà comunicato direttamente alle famiglie da
  parte delle catechiste/i che già sono in contatto con voi.\n\nNell’att
 o dell’iscrizione vi chiediamo collaborazione nel seguire con scrupolo l
 e seguenti indicazioni:\n\n 	Compilare e firmare* il Modulo d’Iscrizione
  della Catechesi in tutte le sue parti\, incluso il “Patto di Responsabi
 lità Reciproca covid19” di cui va trattenuta una copia. Da inviare via 
 e-mail. Incluso nel modulo prendere visione dell’Informativa e consenso 
 ai fini privacy e riservatezza e il Protocollo Sicurezza Parrocchie v2.\n 
 	Compilare il Form per il tesseramento all’associazione Noi Oratorio APS
 \; il tesseramento in primis è segno di appartenenza e sostegno alla comu
 nità\, oltre ad essere necessario per l’iscrizione ai fini della copert
 ura assicurativa\;\n 	Copia del bonifico bancario da intestare alla PARROC
 CHIA DI SS. PIETRO e ANDREA\,\nIBAN: IT32 B083 0401 8100 0001 0000 807 –
  BIC: CCRTIT2T76A  da inviare via e-mail.\nDi seguito le quote:\n\n 	  
 € 20 per il primo figlio (inclusa la quota per il tesseramento all’ora
 torio)\n 	  € 15 per secondo/terzo figlio (inclusa la quota per il tess
 eramento all’oratorio)\n\n\n 	Utilizzo del modulo “Informazioni partic
 olari” per i genitori che volessero segnalare alla parrocchia informazio
 ni importanti riguardo il minore (es. patologie\, terapie in corso\, aller
 gie e/o intolleranze). Questo modulo va eventualmente consegnato alla parr
 occhia in busta chiusa.\n\nIl modulo di iscrizione (punto 1) e la copia de
 l bonifico (punto 3) vanno allegati ed inviati con un’unica e-mail all
 ’indirizzo povo@parrocchietn.it.\n\nNell’oggetto della e-mail va indic
 ato: CATECHESI “Nome e Cognome del bambino/a” – “Anno di iscrizion
 e alla catechesi” (es. CATECHESI Paolo Rossi – Anno I)\n\n(*) la firma
  dell’iscrizione alla catechesi è valida anche per il tesseramento all
 ’associazione Noi Oratorio\n\nIscrizione al percorso di catechesi unico 
 V1.1 \n\n&nbsp\;\n\n "Modulo Informazioni particolari" \n\n&nbsp\;\nForm 
 iscrizione Oratorio\nCaricamento…\n&nbsp\;
END:VEVENT
BEGIN:VTIMEZONE
TZID:Europe/Rome
X-LIC-LOCATION:Europe/Rome
BEGIN:DAYLIGHT
DTSTART:20200329T030000
TZOFFSETFROM:+0100
TZOFFSETTO:+0200
TZNAME:CEST
END:DAYLIGHT
END:VTIMEZONE
END:VCALENDAR