BEGIN:VCALENDAR
VERSION:2.0
PRODID:-//wp-events-plugin.com//6.6.3//EN
TZID:Europe/Rome
X-WR-TIMEZONE:Europe/Rome
BEGIN:VEVENT
UID:0-106@povo.diocesitn.it
DTSTART;TZID=Europe/Rome:20210301T000000
DTEND;TZID=Europe/Rome:20210304T000000
DTSTAMP:20210301T095553Z
URL:https://povo.diocesitn.it/events/alle-comuita-di-povo-e-villazzano-pre
 ghiera-per-le-vocazioni-giovedi-4-marzo-ore-2000-nella-chiesa-di-povo/
SUMMARY:Alle comunità di Povo e Villazzano: PREGHIERA PER LE VOCAZIONI - G
 iovedì 4 Marzo ore 20:00 nella chiesa di Povo
DESCRIPTION:&nbsp\;\n\n&nbsp\;
END:VEVENT
BEGIN:VTIMEZONE
TZID:Europe/Rome
X-LIC-LOCATION:Europe/Rome
BEGIN:STANDARD
DTSTART:20201025T020000
TZOFFSETFROM:+0200
TZOFFSETTO:+0100
TZNAME:CET
END:STANDARD
END:VTIMEZONE
END:VCALENDAR