BEGIN:VCALENDAR
VERSION:2.0
PRODID:-//wp-events-plugin.com//6.6.3//EN
TZID:Europe/Rome
X-WR-TIMEZONE:Europe/Rome
BEGIN:VEVENT
UID:0-161@povo.diocesitn.it
DTSTART;TZID=Europe/Rome:20211028T090000
DTEND;TZID=Europe/Rome:20211107T100000
DTSTAMP:20211028T175444Z
URL:https://povo.diocesitn.it/events/6538/
SUMMARY:Celebrazione santa messa il 7/11 a Oltrecastello
DESCRIPTION:DOMENICA 07 NOVEMBRE 2021\n\nad ore 9:00\n\nS.MESSA ANCHE AD OL
 TRECASTELLO
END:VEVENT
BEGIN:VTIMEZONE
TZID:Europe/Rome
X-LIC-LOCATION:Europe/Rome
BEGIN:DAYLIGHT
DTSTART:20210328T030000
TZOFFSETFROM:+0100
TZOFFSETTO:+0200
TZNAME:CEST
END:DAYLIGHT
BEGIN:STANDARD
DTSTART:20211031T020000
TZOFFSETFROM:+0200
TZOFFSETTO:+0100
TZNAME:CET
END:STANDARD
END:VTIMEZONE
END:VCALENDAR