BEGIN:VCALENDAR
VERSION:2.0
PRODID:-//wp-events-plugin.com//6.6.3//EN
TZID:Europe/Rome
X-WR-TIMEZONE:Europe/Rome
BEGIN:VEVENT
UID:0-110@povo.diocesitn.it
DTSTART;TZID=Europe/Rome:20210308T000000
DTEND;TZID=Europe/Rome:20210313T000000
DTSTAMP:20210308T075045Z
URL:https://povo.diocesitn.it/events/5223/
SUMMARY:Foglietto domenicale settimanale
DESCRIPTION:\n\n\n\nCamminiamo Insieme\nAnno VI– Foglietto settimanale de
 lla Parrocchia santi Pietro e Andrea – Povo\nTel.0461 810420 – e-mail:
  povo@parrocchietn.it – http://povo.diocesitn.it/\nDomenica 07 Marzo 202
 1 -III Domenica di Quaresima Anno B\n\n\n\n\n\nDal Vangelo secondo Giovann
 i 2\,13-25\n\nSi avvicinava la Pasqua dei Giudei e Gesù salì a Gerusalem
 me. Trovò nel tempio gente che vendeva buoi\, pecore e colombe e\, là se
 duti\, i cambiamonete. Allora fece una frusta di cordicelle e scacciò tut
 ti fuori del tempio\, con le pecore e i buoi\; gettò a terra il denaro de
 i cambiamonete e ne rovesciò i banchi\, e ai venditori di colombe disse: 
 «Portate via di qui queste cose e non fate della casa del Padre mio un me
 rcato!». I suoi discepoli si ricordarono che sta scritto: «Lo zelo per l
 a tua casa mi divorerà».\n
END:VEVENT
BEGIN:VTIMEZONE
TZID:Europe/Rome
X-LIC-LOCATION:Europe/Rome
BEGIN:STANDARD
DTSTART:20201025T020000
TZOFFSETFROM:+0200
TZOFFSETTO:+0100
TZNAME:CET
END:STANDARD
END:VTIMEZONE
END:VCALENDAR