BEGIN:VCALENDAR
VERSION:2.0
PRODID:-//wp-events-plugin.com//6.6.3//EN
TZID:Europe/Rome
X-WR-TIMEZONE:Europe/Rome
BEGIN:VEVENT
UID:0-134@povo.diocesitn.it
DTSTART;TZID=Europe/Rome:20210501T000000
DTEND;TZID=Europe/Rome:20210501T000000
DTSTAMP:20210501T074354Z
URL:https://povo.diocesitn.it/events/1-maggio-ore-1000-messa-animatadagli-
 aclisti-di-povo/
SUMMARY:1 Maggio ore 10:00 Messa animatadagli Aclisti di Povo
DESCRIPTION:In occasione della festa di S.Giuseppe lavoratore\, Sabato 1 Ma
 ggio ore 10:00\, Messa animata dagli Aclisti di Povo
END:VEVENT
BEGIN:VTIMEZONE
TZID:Europe/Rome
X-LIC-LOCATION:Europe/Rome
BEGIN:DAYLIGHT
DTSTART:20210328T030000
TZOFFSETFROM:+0100
TZOFFSETTO:+0200
TZNAME:CEST
END:DAYLIGHT
END:VTIMEZONE
END:VCALENDAR